BEGIN:VCALENDAR
VERSION:2.0
PRODID:-//Ohio YMCA Youth and Government - ECPv6.15.20//NONSGML v1.0//EN
CALSCALE:GREGORIAN
METHOD:PUBLISH
X-WR-CALNAME:Ohio YMCA Youth and Government
X-ORIGINAL-URL:https://www.ohioymcayg.org
X-WR-CALDESC:Events for Ohio YMCA Youth and Government
REFRESH-INTERVAL;VALUE=DURATION:PT1H
X-Robots-Tag:noindex
X-PUBLISHED-TTL:PT1H
BEGIN:VTIMEZONE
TZID:America/New_York
BEGIN:DAYLIGHT
TZOFFSETFROM:-0500
TZOFFSETTO:-0400
TZNAME:EDT
DTSTART:20240310T070000
END:DAYLIGHT
BEGIN:STANDARD
TZOFFSETFROM:-0400
TZOFFSETTO:-0500
TZNAME:EST
DTSTART:20241103T060000
END:STANDARD
BEGIN:DAYLIGHT
TZOFFSETFROM:-0500
TZOFFSETTO:-0400
TZNAME:EDT
DTSTART:20250309T070000
END:DAYLIGHT
BEGIN:STANDARD
TZOFFSETFROM:-0400
TZOFFSETTO:-0500
TZNAME:EST
DTSTART:20251102T060000
END:STANDARD
BEGIN:DAYLIGHT
TZOFFSETFROM:-0500
TZOFFSETTO:-0400
TZNAME:EDT
DTSTART:20260308T070000
END:DAYLIGHT
BEGIN:STANDARD
TZOFFSETFROM:-0400
TZOFFSETTO:-0500
TZNAME:EST
DTSTART:20261101T060000
END:STANDARD
BEGIN:DAYLIGHT
TZOFFSETFROM:-0500
TZOFFSETTO:-0400
TZNAME:EDT
DTSTART:20270314T070000
END:DAYLIGHT
BEGIN:STANDARD
TZOFFSETFROM:-0400
TZOFFSETTO:-0500
TZNAME:EST
DTSTART:20271107T060000
END:STANDARD
END:VTIMEZONE
BEGIN:VEVENT
DTSTART;TZID=America/New_York:20260610T080000
DTEND;TZID=America/New_York:20260610T170000
DTSTAMP:20260424T165046
CREATED:20251201T213649Z
LAST-MODIFIED:20251201T213649Z
UID:1267-1781078400-1781110800@www.ohioymcayg.org
SUMMARY:Family Feud Event
DESCRIPTION:
URL:https://www.ohioymcayg.org/event/family-feud-event/
END:VEVENT
BEGIN:VEVENT
DTSTART;TZID=America/New_York:20260415T190000
DTEND;TZID=America/New_York:20260415T200000
DTSTAMP:20260424T165046
CREATED:20251201T214821Z
LAST-MODIFIED:20251201T214821Z
UID:1297-1776279600-1776283200@www.ohioymcayg.org
SUMMARY:Monthly Delegation Leader Meeting
DESCRIPTION:
URL:https://www.ohioymcayg.org/event/monthly-delegation-leader-meeting-6/
END:VEVENT
BEGIN:VEVENT
DTSTART;TZID=America/New_York:20260415T173000
DTEND;TZID=America/New_York:20260415T183000
DTSTAMP:20260424T165046
CREATED:20251201T214747Z
LAST-MODIFIED:20251201T214747Z
UID:1295-1776274200-1776277800@www.ohioymcayg.org
SUMMARY:Monthly Presiding Officer Meeting
DESCRIPTION:
URL:https://www.ohioymcayg.org/event/monthly-presiding-officer-meeting-8/
END:VEVENT
BEGIN:VEVENT
DTSTART;TZID=America/New_York:20260318T190000
DTEND;TZID=America/New_York:20260318T200000
DTSTAMP:20260424T165046
CREATED:20251201T214624Z
LAST-MODIFIED:20251201T214624Z
UID:1293-1773860400-1773864000@www.ohioymcayg.org
SUMMARY:Monthly Delegation Leader Meeting
DESCRIPTION:
URL:https://www.ohioymcayg.org/event/monthly-delegation-leader-meeting-5/
END:VEVENT
BEGIN:VEVENT
DTSTART;TZID=America/New_York:20260318T173000
DTEND;TZID=America/New_York:20260318T183000
DTSTAMP:20260424T165046
CREATED:20251201T214555Z
LAST-MODIFIED:20251201T214555Z
UID:1291-1773855000-1773858600@www.ohioymcayg.org
SUMMARY:Monthly Presiding Officer Meeting
DESCRIPTION:
URL:https://www.ohioymcayg.org/event/monthly-presiding-officer-meeting-7/
END:VEVENT
BEGIN:VEVENT
DTSTART;VALUE=DATE:20260212
DTEND;VALUE=DATE:20260215
DTSTAMP:20260424T165046
CREATED:20251201T213521Z
LAST-MODIFIED:20251201T213521Z
UID:1263-1770854400-1771113599@www.ohioymcayg.org
SUMMARY:State Assembly
DESCRIPTION:
URL:https://www.ohioymcayg.org/event/state-assembly/
END:VEVENT
BEGIN:VEVENT
DTSTART;VALUE=DATE:20260211
DTEND;VALUE=DATE:20260212
DTSTAMP:20260424T165046
CREATED:20251201T213602Z
LAST-MODIFIED:20251201T213602Z
UID:1265-1770768000-1770854399@www.ohioymcayg.org
SUMMARY:Leadership Training Day
DESCRIPTION:This event is by invitation only for Presiding Officers and Committee Chairs.
URL:https://www.ohioymcayg.org/event/leadership-training-day/
END:VEVENT
BEGIN:VEVENT
DTSTART;TZID=America/New_York:20260206T173000
DTEND;TZID=America/New_York:20260206T183000
DTSTAMP:20260424T165046
CREATED:20260131T024506Z
LAST-MODIFIED:20260131T024506Z
UID:1332-1770399000-1770402600@www.ohioymcayg.org
SUMMARY:Lobbyist Meeting
DESCRIPTION:https://ymcaalliance.zoom.us/j/85266393574
URL:https://www.ohioymcayg.org/event/lobbyist-meeting/
END:VEVENT
BEGIN:VEVENT
DTSTART;TZID=America/New_York:20260206T160000
DTEND;TZID=America/New_York:20260206T170000
DTSTAMP:20260424T165046
CREATED:20260131T023730Z
LAST-MODIFIED:20260203T220900Z
UID:1319-1770393600-1770397200@www.ohioymcayg.org
SUMMARY:Supreme Court Meeting
DESCRIPTION:https://ymcaalliance.zoom.us/j/85614137555
URL:https://www.ohioymcayg.org/event/supreme-court-meeting/
END:VEVENT
BEGIN:VEVENT
DTSTART;TZID=America/New_York:20260205T193000
DTEND;TZID=America/New_York:20260205T203000
DTSTAMP:20260424T165046
CREATED:20260131T024430Z
LAST-MODIFIED:20260131T024430Z
UID:1330-1770319800-1770323400@www.ohioymcayg.org
SUMMARY:Governor's Cabinet Meeting
DESCRIPTION:https://ymcaalliance.zoom.us/j/84914799714
URL:https://www.ohioymcayg.org/event/governors-cabinet-meeting/
END:VEVENT
BEGIN:VEVENT
DTSTART;TZID=America/New_York:20260205T183000
DTEND;TZID=America/New_York:20260205T193000
DTSTAMP:20260424T165046
CREATED:20260131T024246Z
LAST-MODIFIED:20260131T024246Z
UID:1325-1770316200-1770319800@www.ohioymcayg.org
SUMMARY:State Assembly Volunteer Meeting
DESCRIPTION:https://ymcaalliance.zoom.us/j/81084025692
URL:https://www.ohioymcayg.org/event/state-assembly-volunteer-meeting/
END:VEVENT
BEGIN:VEVENT
DTSTART;TZID=America/New_York:20260205T180000
DTEND;TZID=America/New_York:20260205T190000
DTSTAMP:20260424T165046
CREATED:20260131T024335Z
LAST-MODIFIED:20260131T024335Z
UID:1327-1770314400-1770318000@www.ohioymcayg.org
SUMMARY:Committee Chair & Vice Chair Meeting
DESCRIPTION:https://ymcaalliance.zoom.us/j/82374589211
URL:https://www.ohioymcayg.org/event/committee-chair-vice-chair-meeting/
END:VEVENT
BEGIN:VEVENT
DTSTART;TZID=America/New_York:20260204T170000
DTEND;TZID=America/New_York:20260204T180000
DTSTAMP:20260424T165046
CREATED:20260131T024140Z
LAST-MODIFIED:20260131T024140Z
UID:1323-1770224400-1770228000@www.ohioymcayg.org
SUMMARY:Appellate Court Meeting
DESCRIPTION:https://ymcaalliance.zoom.us/j/87161142801
URL:https://www.ohioymcayg.org/event/appellate-court-meeting/
END:VEVENT
BEGIN:VEVENT
DTSTART;TZID=America/New_York:20260203T190000
DTEND;TZID=America/New_York:20260203T200000
DTSTAMP:20260424T165046
CREATED:20260131T023827Z
LAST-MODIFIED:20260131T023918Z
UID:1321-1770145200-1770148800@www.ohioymcayg.org
SUMMARY:State Assembly Advisor Briefing
DESCRIPTION:https://ymcaalliance.zoom.us/j/87837514414
URL:https://www.ohioymcayg.org/event/state-assembly-advisor-briefing/
END:VEVENT
BEGIN:VEVENT
DTSTART;TZID=America/New_York:20260203T173000
DTEND;TZID=America/New_York:20260203T183000
DTSTAMP:20260424T165046
CREATED:20260203T220948Z
LAST-MODIFIED:20260203T220953Z
UID:1337-1770139800-1770143400@www.ohioymcayg.org
SUMMARY:Secretary of State Meeting
DESCRIPTION:https://ymcaalliance.zoom.us/j/83339216908
URL:https://www.ohioymcayg.org/event/secretary-of-state-meeting/
END:VEVENT
BEGIN:VEVENT
DTSTART;TZID=America/New_York:20260203T160000
DTEND;TZID=America/New_York:20260203T170000
DTSTAMP:20260424T165046
CREATED:20260131T023650Z
LAST-MODIFIED:20260131T024001Z
UID:1317-1770134400-1770138000@www.ohioymcayg.org
SUMMARY:Oversight Meeting
DESCRIPTION:https://ymcaalliance.zoom.us/j/86381608731
URL:https://www.ohioymcayg.org/event/oversight-meeting/
END:VEVENT
BEGIN:VEVENT
DTSTART;TZID=America/New_York:20260202T180000
DTEND;TZID=America/New_York:20260202T190000
DTSTAMP:20260424T165046
CREATED:20260131T023601Z
LAST-MODIFIED:20260131T023942Z
UID:1315-1770055200-1770058800@www.ohioymcayg.org
SUMMARY:Media Team Meeting
DESCRIPTION:https://ymcaalliance.zoom.us/j/82856689383
URL:https://www.ohioymcayg.org/event/media-team-meeting/
END:VEVENT
BEGIN:VEVENT
DTSTART;VALUE=DATE:20260131
DTEND;VALUE=DATE:20260201
DTSTAMP:20260424T165046
CREATED:20251201T213055Z
LAST-MODIFIED:20260131T023307Z
UID:1256-1769817600-1769903999@www.ohioymcayg.org
SUMMARY:Background Checks Due
DESCRIPTION:Background checks for advisors and any students who will be over the age of 18 at the State Assembly should be completed by this date.
URL:https://www.ohioymcayg.org/event/background-checks-due/
END:VEVENT
BEGIN:VEVENT
DTSTART;VALUE=DATE:20260131
DTEND;VALUE=DATE:20260201
DTSTAMP:20260424T165046
CREATED:20251201T212755Z
LAST-MODIFIED:20260131T023227Z
UID:1253-1769817600-1769903999@www.ohioymcayg.org
SUMMARY:Codes of Conduct Due
DESCRIPTION:Codes of conduct for both students and advisors are due.
URL:https://www.ohioymcayg.org/event/codes-of-conduct-due/
END:VEVENT
BEGIN:VEVENT
DTSTART;TZID=America/New_York:20260121T190000
DTEND;TZID=America/New_York:20260121T200000
DTSTAMP:20260424T165046
CREATED:20251201T214512Z
LAST-MODIFIED:20251201T214512Z
UID:1289-1769022000-1769025600@www.ohioymcayg.org
SUMMARY:Monthly Delegation Leader Meeting
DESCRIPTION:
URL:https://www.ohioymcayg.org/event/monthly-delegation-leader-meeting-4/
END:VEVENT
BEGIN:VEVENT
DTSTART;TZID=America/New_York:20260121T173000
DTEND;TZID=America/New_York:20260121T183000
DTSTAMP:20260424T165046
CREATED:20251201T214430Z
LAST-MODIFIED:20251201T214430Z
UID:1287-1769016600-1769020200@www.ohioymcayg.org
SUMMARY:Monthly Presiding Officer Meeting
DESCRIPTION:
URL:https://www.ohioymcayg.org/event/monthly-presiding-officer-meeting-6/
END:VEVENT
BEGIN:VEVENT
DTSTART;VALUE=DATE:20260109
DTEND;VALUE=DATE:20260110
DTSTAMP:20260424T165046
CREATED:20251201T212712Z
LAST-MODIFIED:20251201T212712Z
UID:1251-1767916800-1768003199@www.ohioymcayg.org
SUMMARY:Bill Submissions Due
DESCRIPTION:https://airtable.com/appVu3tCzisAUD4gH/pagOOcGhV9HDD8HNs/form
URL:https://www.ohioymcayg.org/event/bill-submissions-due/
END:VEVENT
BEGIN:VEVENT
DTSTART;VALUE=DATE:20251219
DTEND;VALUE=DATE:20251220
DTSTAMP:20260424T165046
CREATED:20251201T212555Z
LAST-MODIFIED:20251201T212555Z
UID:1249-1766102400-1766188799@www.ohioymcayg.org
SUMMARY:Rooming for State Assembly Due
DESCRIPTION:https://airtable.com/appVu3tCzisAUD4gH/pagNcb9qiwXQ3UwRt/form
URL:https://www.ohioymcayg.org/event/rooming-for-state-assembly-due/
END:VEVENT
BEGIN:VEVENT
DTSTART;TZID=America/New_York:20251216T190000
DTEND;TZID=America/New_York:20251216T200000
DTSTAMP:20260424T165046
CREATED:20251201T211929Z
LAST-MODIFIED:20251211T221649Z
UID:1236-1765911600-1765915200@www.ohioymcayg.org
SUMMARY:Monthly Delegation Leader Meeting
DESCRIPTION:
URL:https://www.ohioymcayg.org/event/monthly-delegation-leader-meeting/
END:VEVENT
BEGIN:VEVENT
DTSTART;TZID=America/New_York:20251216T173000
DTEND;TZID=America/New_York:20251216T183000
DTSTAMP:20260424T165046
CREATED:20251201T211900Z
LAST-MODIFIED:20251211T221629Z
UID:1234-1765906200-1765909800@www.ohioymcayg.org
SUMMARY:Monthly Presiding Officer Meeting
DESCRIPTION:
URL:https://www.ohioymcayg.org/event/monthly-presiding-officer-meeting/
END:VEVENT
BEGIN:VEVENT
DTSTART;VALUE=DATE:20251212
DTEND;VALUE=DATE:20251213
DTSTAMP:20260424T165046
CREATED:20251201T212055Z
LAST-MODIFIED:20251201T212055Z
UID:1238-1765497600-1765583999@www.ohioymcayg.org
SUMMARY:Drop Deadline
DESCRIPTION:This is the last day for advisors to notify the YMCA staff of any drops in their conference roster for a full refund.
URL:https://www.ohioymcayg.org/event/drop-deadline/
END:VEVENT
BEGIN:VEVENT
DTSTART;VALUE=DATE:20251210
DTEND;VALUE=DATE:20251211
DTSTAMP:20260424T165046
CREATED:20251201T212226Z
LAST-MODIFIED:20251201T212226Z
UID:1242-1765324800-1765411199@www.ohioymcayg.org
SUMMARY:Late Registration for State Assembly Closes
DESCRIPTION:This is the last day to register for State Assembly!
URL:https://www.ohioymcayg.org/event/late-registration-for-state-assembly-closes/
END:VEVENT
BEGIN:VEVENT
DTSTART;TZID=America/New_York:20251205T170000
DTEND;TZID=America/New_York:20251205T180000
DTSTAMP:20260424T165046
CREATED:20251201T211802Z
LAST-MODIFIED:20251201T211802Z
UID:1232-1764954000-1764957600@www.ohioymcayg.org
SUMMARY:Presiding Officer Candidates Meeting
DESCRIPTION:This meeting is for anyone interested in running for a Presiding Officer position at the 2026 State Assembly. The link for the meeting is: https://ymcaalliance.zoom.us/j/89945743217 \nThis could include: \n\nYouth Governor\nSpeaker of the House (HS and MS)\nPresident of the Senate (HS and MS)\nSecretary of State\nSupreme Court Chief Justice\nAttorney General\nAppellate Court Chief Justice\nHead Lobbyist\nMedia Editor in Chief
URL:https://www.ohioymcayg.org/event/presiding-officer-candidates-meeting/
END:VEVENT
BEGIN:VEVENT
DTSTART;VALUE=DATE:20251205
DTEND;VALUE=DATE:20251206
DTSTAMP:20260424T165046
CREATED:20251201T212439Z
LAST-MODIFIED:20251201T212439Z
UID:1247-1764892800-1764979199@www.ohioymcayg.org
SUMMARY:Financial Aid Applications Due
DESCRIPTION:https://forms.gle/cdDZeQHpUAYPbfEM7
URL:https://www.ohioymcayg.org/event/financial-aid-applications-due/
END:VEVENT
BEGIN:VEVENT
DTSTART;VALUE=DATE:20251205
DTEND;VALUE=DATE:20251206
DTSTAMP:20260424T165046
CREATED:20251201T212339Z
LAST-MODIFIED:20251201T212339Z
UID:1244-1764892800-1764979199@www.ohioymcayg.org
SUMMARY:Appellate Team Confirmation Form Due
DESCRIPTION:Please submit this if you plan to have an Appellate Team this year. \n  \nhttps://airtable.com/appJyKYyj1o3gJr0t/pagCzT6LOigzD1bvY/form
URL:https://www.ohioymcayg.org/event/appellate-team-confirmation-form-due/
END:VEVENT
END:VCALENDAR