BEGIN:VCALENDAR
VERSION:2.0
PRODID:-//Ohio YMCA Youth and Government - ECPv6.15.20//NONSGML v1.0//EN
CALSCALE:GREGORIAN
METHOD:PUBLISH
X-WR-CALNAME:Ohio YMCA Youth and Government
X-ORIGINAL-URL:https://www.ohioymcayg.org
X-WR-CALDESC:Events for Ohio YMCA Youth and Government
REFRESH-INTERVAL;VALUE=DURATION:PT1H
X-Robots-Tag:noindex
X-PUBLISHED-TTL:PT1H
BEGIN:VTIMEZONE
TZID:America/New_York
BEGIN:DAYLIGHT
TZOFFSETFROM:-0500
TZOFFSETTO:-0400
TZNAME:EDT
DTSTART:20220313T070000
END:DAYLIGHT
BEGIN:STANDARD
TZOFFSETFROM:-0400
TZOFFSETTO:-0500
TZNAME:EST
DTSTART:20221106T060000
END:STANDARD
BEGIN:DAYLIGHT
TZOFFSETFROM:-0500
TZOFFSETTO:-0400
TZNAME:EDT
DTSTART:20230312T070000
END:DAYLIGHT
BEGIN:STANDARD
TZOFFSETFROM:-0400
TZOFFSETTO:-0500
TZNAME:EST
DTSTART:20231105T060000
END:STANDARD
BEGIN:DAYLIGHT
TZOFFSETFROM:-0500
TZOFFSETTO:-0400
TZNAME:EDT
DTSTART:20240310T070000
END:DAYLIGHT
BEGIN:STANDARD
TZOFFSETFROM:-0400
TZOFFSETTO:-0500
TZNAME:EST
DTSTART:20241103T060000
END:STANDARD
BEGIN:DAYLIGHT
TZOFFSETFROM:-0500
TZOFFSETTO:-0400
TZNAME:EDT
DTSTART:20250309T070000
END:DAYLIGHT
BEGIN:STANDARD
TZOFFSETFROM:-0400
TZOFFSETTO:-0500
TZNAME:EST
DTSTART:20251102T060000
END:STANDARD
BEGIN:DAYLIGHT
TZOFFSETFROM:-0500
TZOFFSETTO:-0400
TZNAME:EDT
DTSTART:20260308T070000
END:DAYLIGHT
BEGIN:STANDARD
TZOFFSETFROM:-0400
TZOFFSETTO:-0500
TZNAME:EST
DTSTART:20261101T060000
END:STANDARD
END:VTIMEZONE
BEGIN:VEVENT
DTSTART;TZID=America/New_York:20250311T153000
DTEND;TZID=America/New_York:20250311T160000
DTSTAMP:20260424T203847
CREATED:20250204T213626Z
LAST-MODIFIED:20250204T213626Z
UID:1002-1741707000-1741708800@www.ohioymcayg.org
SUMMARY:Late HS Governor's Cabinet Meeting
DESCRIPTION:
URL:https://www.ohioymcayg.org/event/late-hs-governors-cabinet-meeting/
LOCATION:zoom
END:VEVENT
BEGIN:VEVENT
DTSTART;TZID=America/New_York:20250310T174500
DTEND;TZID=America/New_York:20250310T181500
DTSTAMP:20260424T203847
CREATED:20250204T213420Z
LAST-MODIFIED:20250310T210528Z
UID:1000-1741628700-1741630500@www.ohioymcayg.org
SUMMARY:Late HS Vice-Chair & Clerk Training
DESCRIPTION:This training is for students who have been appointed as vice-chairs or clerks. \n  \nMeeting Link: https://ymcaalliance.zoom.us/j/81803784330
URL:https://www.ohioymcayg.org/event/late-hs-vice-chair-clerk-training/
LOCATION:zoom
END:VEVENT
BEGIN:VEVENT
DTSTART;TZID=America/New_York:20250310T170000
DTEND;TZID=America/New_York:20250310T173000
DTSTAMP:20260424T203847
CREATED:20250204T213056Z
LAST-MODIFIED:20250310T210305Z
UID:997-1741626000-1741627800@www.ohioymcayg.org
SUMMARY:Late HS Candidates Meeting
DESCRIPTION:This meeting is for anyone who plans to run for Speaker of the House\, President of the Senate\, Youth Governor\, Attorney General\, Secretary of State or Chief Justice. \n  \nLink to call: https://ymcaalliance.zoom.us/j/81472985250
URL:https://www.ohioymcayg.org/event/late-hs-candidates-meeting/
LOCATION:zoom
END:VEVENT
BEGIN:VEVENT
DTSTART;TZID=America/New_York:20250212T170000
DTEND;TZID=America/New_York:20250212T180000
DTSTAMP:20260424T203847
CREATED:20241127T230245Z
LAST-MODIFIED:20241127T230245Z
UID:858-1739379600-1739383200@www.ohioymcayg.org
SUMMARY:HS Presiding Officer Meeting
DESCRIPTION:
URL:https://www.ohioymcayg.org/event/hs-presiding-officer-meeting-4/
END:VEVENT
BEGIN:VEVENT
DTSTART;VALUE=DATE:20250130
DTEND;VALUE=DATE:20250202
DTSTAMP:20260424T203847
CREATED:20241127T225653Z
LAST-MODIFIED:20241127T225653Z
UID:848-1738195200-1738454399@www.ohioymcayg.org
SUMMARY:Early High School State Assembly
DESCRIPTION:
URL:https://www.ohioymcayg.org/event/early-high-school-state-assembly/
LOCATION:Renaissance Columbus Downtown Hotel\, 50 N. Third St.\, Columbus\, OH\, 43215\, United States
END:VEVENT
BEGIN:VEVENT
DTSTART;TZID=America/New_York:20250124T170000
DTEND;TZID=America/New_York:20250124T180000
DTSTAMP:20260424T203847
CREATED:20250122T182704Z
LAST-MODIFIED:20250122T184228Z
UID:982-1737738000-1737741600@www.ohioymcayg.org
SUMMARY:Early HS Vice Chair Meeting
DESCRIPTION:This meeting is for selected vice-chairs for the upcoming Early High School Conferenc. Check your email for a link to the meeting!
URL:https://www.ohioymcayg.org/event/early-hs-vice-chair-meeting/
LOCATION:zoom
END:VEVENT
BEGIN:VEVENT
DTSTART;TZID=America/New_York:20250124T160000
DTEND;TZID=America/New_York:20250124T170000
DTSTAMP:20260424T203847
CREATED:20250122T184051Z
LAST-MODIFIED:20250122T184051Z
UID:987-1737734400-1737738000@www.ohioymcayg.org
SUMMARY:Early HS Candidates Meeting
DESCRIPTION:This meeting is for anyone interested in running for office at the early high school conference. Delegates may attend the event by clicking on the following link: https://ymcaalliance.zoom.us/j/86712010287
URL:https://www.ohioymcayg.org/event/early-hs-candidates-meeting/
LOCATION:zoom
END:VEVENT
BEGIN:VEVENT
DTSTART;TZID=America/New_York:20250115T170000
DTEND;TZID=America/New_York:20250115T180000
DTSTAMP:20260424T203847
CREATED:20241127T230137Z
LAST-MODIFIED:20241127T230320Z
UID:856-1736960400-1736964000@www.ohioymcayg.org
SUMMARY:HS Presiding Officer Meeting
DESCRIPTION:
URL:https://www.ohioymcayg.org/event/hs-presiding-officer-meeting-3/
END:VEVENT
BEGIN:VEVENT
DTSTART;TZID=America/New_York:20241218T170000
DTEND;TZID=America/New_York:20241218T180000
DTSTAMP:20260424T203847
CREATED:20241127T225954Z
LAST-MODIFIED:20241127T225954Z
UID:854-1734541200-1734544800@www.ohioymcayg.org
SUMMARY:HS Presiding Officer Meeting
DESCRIPTION:
URL:https://www.ohioymcayg.org/event/hs-presiding-officer-meeting-2/
END:VEVENT
BEGIN:VEVENT
DTSTART;VALUE=DATE:20241208
DTEND;VALUE=DATE:20241211
DTSTAMP:20260424T203847
CREATED:20241127T213849Z
LAST-MODIFIED:20241127T215609Z
UID:842-1733616000-1733875199@www.ohioymcayg.org
SUMMARY:Middle School State Assembly
DESCRIPTION:
URL:https://www.ohioymcayg.org/event/middle-school-state-assembly/
LOCATION:Renaissance Columbus Downtown Hotel\, 50 N. Third St.\, Columbus\, OH\, 43215\, United States
END:VEVENT
BEGIN:VEVENT
DTSTART;TZID=America/New_York:20241205T160000
DTEND;TZID=America/New_York:20241205T170000
DTSTAMP:20260424T203847
CREATED:20241127T222959Z
LAST-MODIFIED:20241127T222959Z
UID:846-1733414400-1733418000@www.ohioymcayg.org
SUMMARY:Middle School Leadership Meeting
DESCRIPTION:
URL:https://www.ohioymcayg.org/event/middle-school-leadership-meeting/
END:VEVENT
BEGIN:VEVENT
DTSTART;TZID=America/New_York:20241204T160000
DTEND;TZID=America/New_York:20241204T170000
DTSTAMP:20260424T203847
CREATED:20241127T215546Z
LAST-MODIFIED:20241127T215546Z
UID:844-1733328000-1733331600@www.ohioymcayg.org
SUMMARY:Middle School Candidate Training
DESCRIPTION:
URL:https://www.ohioymcayg.org/event/middle-school-candidate-training/
END:VEVENT
BEGIN:VEVENT
DTSTART;TZID=America/New_York:20241113T170000
DTEND;TZID=America/New_York:20241113T180000
DTSTAMP:20260424T203847
CREATED:20241127T225903Z
LAST-MODIFIED:20241127T225903Z
UID:852-1731517200-1731520800@www.ohioymcayg.org
SUMMARY:HS Presiding Officer Meeting
DESCRIPTION:
URL:https://www.ohioymcayg.org/event/hs-presiding-officer-meeting/
END:VEVENT
BEGIN:VEVENT
DTSTART;TZID=America/New_York:20240321T060000
DTEND;TZID=America/New_York:20240323T060000
DTSTAMP:20260424T203847
CREATED:20231117T022212Z
LAST-MODIFIED:20231117T022212Z
UID:109-1711000800-1711173600@www.ohioymcayg.org
SUMMARY:OHYG High School Late State Assembly
DESCRIPTION:
URL:https://www.ohioymcayg.org/event/ohyg-high-school-late-state-assembly/
LOCATION:Renaissance Columbus Downtown Hotel\, 50 N. Third St.\, Columbus\, OH\, 43215\, United States
END:VEVENT
BEGIN:VEVENT
DTSTART;TZID=America/New_York:20240229T060000
DTEND;TZID=America/New_York:20240302T060000
DTSTAMP:20260424T203847
CREATED:20231117T022101Z
LAST-MODIFIED:20231117T022101Z
UID:107-1709186400-1709359200@www.ohioymcayg.org
SUMMARY:OHYG High School Early State Assembly
DESCRIPTION:
URL:https://www.ohioymcayg.org/event/ohyg-high-school-early-state-assembly/
LOCATION:Renaissance Columbus Downtown Hotel\, 50 N. Third St.\, Columbus\, OH\, 43215\, United States
END:VEVENT
BEGIN:VEVENT
DTSTART;TZID=America/New_York:20231210T080000
DTEND;TZID=America/New_York:20231212T060000
DTSTAMP:20260424T203847
CREATED:20231117T021913Z
LAST-MODIFIED:20231117T021913Z
UID:103-1702195200-1702360800@www.ohioymcayg.org
SUMMARY:OHYG Middle School State Assembly
DESCRIPTION:
URL:https://www.ohioymcayg.org/event/ohyg-middle-school-state-assembly/
LOCATION:Renaissance Columbus Downtown Hotel\, 50 N. Third St.\, Columbus\, OH\, 43215\, United States
END:VEVENT
END:VCALENDAR